View In:
ArcGIS JavaScript
ArcGIS Online Map Viewer
ArcGIS Earth
Service Description: The 2011 orthophoto is a digital aerial photograph in which displacements due to tilt and relief have been corrected to produce uniform scale and a true representation of the ground. The data capture was contracted out on behalf of the District of Saanich by the CRD to Mapcon Mapping Ltd. (Burnaby, BC, CAN) and was captured in a digital format using the Vexcel UltraCam-X large format digital photogrammetric camera at 10x10cm resolution. The images were captured May 18-20 2011, post processed and loaded into a seamless mosaic and compressed using JPEG2000 (75% compression). It is stored in coordinate system UTM Zone 10, NAD83 Datum.
Name: RASTERS/Orthophoto2011
Description: The 2011 orthophoto is a digital aerial photograph in which displacements due to tilt and relief have been corrected to produce uniform scale and a true representation of the ground. The data capture was contracted out on behalf of the District of Saanich by the CRD to Mapcon Mapping Ltd. (Burnaby, BC, CAN) and was captured in a digital format using the Vexcel UltraCam-X large format digital photogrammetric camera at 10x10cm resolution. The images were captured May 18-20 2011, post processed and loaded into a seamless mosaic and compressed using JPEG2000 (75% compression). It is stored in coordinate system UTM Zone 10, NAD83 Datum.
Single Fused Map Cache: true
Tile Info:
- Height: 256
- Width: 256
- DPI: 96
-
Levels of Detail: 18
- Format: JPEG
- Compression Quality: 75.0
- LERC Error: NaN
- Origin: X: 450305.0
Y: 5394781.0
- Spatial Reference: 3157
(3157)
LatestVCSWkid(0)
Storage Info:
- Storage Format: esriMapCacheStorageModeCompactV2
- Packet Size: 128
Extent:
XMin: 463938.1634841117
YMin: 5362420.560205081
XMax: 481938.16358469427
YMax: 5379420.56014175
Spatial Reference: 3157
(3157)
LatestVCSWkid(0)
Initial Extent:
XMin: 463938.1634841117
YMin: 5362420.560205081
XMax: 481938.16358469427
YMax: 5379420.56014175
Spatial Reference: 3157
(3157)
LatestVCSWkid(0)
Full Extent:
XMin: 463938.1634841117
YMin: 5362420.560205081
XMax: 481938.16358469427
YMax: 5379420.56014175
Spatial Reference: 3157
(3157)
LatestVCSWkid(0)
Pixel Size X: 0.10000000055879192
Pixel Size Y: 0.09999999962746549
Band Count: 4
Pixel Type: U8
RasterFunction Infos: {"rasterFunctionInfos": [{
"name": "None",
"description": "",
"help": ""
}]}
Mensuration Capabilities: Basic
Has Histograms: true
Has Colormap: false
Has Multi Dimensions : false
Rendering Rule:
Min Scale: 125000
Max Scale: 100
Copyright Text: The Corporation of the District of Saanich, GIS Section; Mapcon Mapping Ltd.
Service Data Type: esriImageServiceDataTypeGeneric
Min Values: 1, 1, 1, 1
Max Values: 255, 255, 255, 255
Mean Values: 69.66487226172836, 78.00675504679347, 78.9528590963022, 90.68202959164445
Standard Deviation Values: 56.845394500424206, 54.18020726279719, 51.800750806459256, 59.43221639494046
Object ID Field:
Fields:
None
Default Mosaic Method: Center
Allowed Mosaic Methods:
SortField:
SortValue: null
Mosaic Operator: First
Default Compression Quality: 75
Default Resampling Method: Bilinear
Max Record Count: null
Max Image Height: 4100
Max Image Width: 15000
Max Download Image Count: null
Max Mosaic Image Count: null
Allow Raster Function: true
Allow Copy: true
Allow Analysis: true
Allow Compute TiePoints: false
Supports Statistics: false
Supports Advanced Queries: false
Use StandardizedQueries: true
Raster Type Infos:
Name: Raster Dataset
Description: Supports all ArcGIS Raster Datasets
Help:
Has Raster Attribute Table: false
Edit Fields Info: null
Ownership Based AccessControl For Rasters: null
Child Resources:
Info
Histograms
Statistics
Key Properties
Legend
Raster Function Infos
Supported Operations:
Export Image
Identify
Measure
Compute Histograms
Compute Statistics Histograms
Get Samples
Compute Class Statistics
Query Boundary
Compute Pixel Location
Compute Angles
Validate
Project
EstimateExportTilesSize
ExportTiles