{ "currentVersion": 11.1, "serviceDescription": "
The 2011 orthophoto is a digital aerial photograph in which displacements due to tilt and relief have been corrected to produce uniform scale and a true representation of the ground. The data capture was contracted out on behalf of the District of Saanich by the CRD to Mapcon Mapping Ltd. (Burnaby, BC, CAN) and was captured in a digital format using the Vexcel UltraCam-X large format digital photogrammetric camera at 10x10cm resolution. The images were captured May 18-20 2011, post processed and loaded into a seamless mosaic and compressed using JPEG2000 (75% compression). It is stored in coordinate system UTM Zone 10, NAD83 Datum.<\/span><\/p><\/div><\/div><\/div>",
"name": "RASTERS/Orthophoto2011",
"description": " The 2011 orthophoto is a digital aerial photograph in which displacements due to tilt and relief have been corrected to produce uniform scale and a true representation of the ground. The data capture was contracted out on behalf of the District of Saanich by the CRD to Mapcon Mapping Ltd. (Burnaby, BC, CAN) and was captured in a digital format using the Vexcel UltraCam-X large format digital photogrammetric camera at 10x10cm resolution. The images were captured May 18-20 2011, post processed and loaded into a seamless mosaic and compressed using JPEG2000 (75% compression). It is stored in coordinate system UTM Zone 10, NAD83 Datum.<\/span><\/p><\/div><\/div><\/div>",
"extent": {
"xmin": 463938.1634841117,
"ymin": 5362420.560205081,
"xmax": 481938.16358469427,
"ymax": 5379420.56014175,
"spatialReference": {
"wkid": 3157,
"latestWkid": 3157
}
},
"initialExtent": {
"xmin": 463938.1634841117,
"ymin": 5362420.560205081,
"xmax": 481938.16358469427,
"ymax": 5379420.56014175,
"spatialReference": {
"wkid": 3157,
"latestWkid": 3157
}
},
"fullExtent": {
"xmin": 463938.1634841117,
"ymin": 5362420.560205081,
"xmax": 481938.16358469427,
"ymax": 5379420.56014175,
"spatialReference": {
"wkid": 3157,
"latestWkid": 3157
}
},
"sortableFields": "",
"bandCount": 4,
"pixelType": "U8",
"minValues": [
1,
1,
1,
1
],
"maxValues": [
255,
255,
255,
255
],
"meanValues": [
69.66487226172836,
78.00675504679347,
78.9528590963022,
90.68202959164445
],
"stdvValues": [
56.845394500424206,
54.18020726279719,
51.800750806459256,
59.43221639494046
],
"hasMultidimensions": false,
"pixelSizeX": 0.10000000055879192,
"pixelSizeY": 0.09999999962746549,
"datasetFormat": "SDR",
"uncompressedSize": 122400000000,
"blockWidth": 128,
"blockHeight": 128,
"compressionType": "JPEG2000",
"bandNames": [
"Band_1",
"Band_2",
"Band_3",
"Band_4"
],
"allowCopy": true,
"allowAnalysis": true,
"itemAccess": false,
"minPixelSize": 0.02645838625010584,
"maxPixelSize": 33.0729828126323,
"copyrightText": "The Corporation of the District of Saanich, GIS Section; Mapcon Mapping Ltd.",
"serviceDataType": "esriImageServiceDataTypeGeneric",
"serviceSourceType": "esriImageServiceSourceTypeDataset",
"objectIdField": "",
"fields": [],
"capabilities": "Mensuration,Image,Metadata",
"defaultMosaicMethod": "Center",
"allowedMosaicMethods": "",
"sortField": "",
"sortValue": null,
"sortAscending": true,
"mosaicOperator": "First",
"defaultCompressionQuality": 75,
"defaultResamplingMethod": "Bilinear",
"maxImageHeight": 4100,
"maxImageWidth": 15000,
"singleFusedMapCache": true,
"tileInfo": {
"rows": 256,
"cols": 256,
"dpi": 96,
"format": "JPEG",
"compressionQuality": 75,
"origin": {
"x": 450305,
"y": 5394781
},
"spatialReference": {
"wkid": 3157,
"latestWkid": 3157
},
"lods": [
{
"level": 0,
"resolution": 33.0729828126323,
"scale": 125000
},
{
"level": 1,
"resolution": 26.458386250105836,
"scale": 100000
},
{
"level": 2,
"resolution": 19.843789687579378,
"scale": 75000
},
{
"level": 3,
"resolution": 13.229193125052918,
"scale": 50000
},
{
"level": 4,
"resolution": 7.9375158750317505,
"scale": 30000
},
{
"level": 5,
"resolution": 3.9687579375158752,
"scale": 15000
},
{
"level": 6,
"resolution": 2.6458386250105836,
"scale": 10000
},
{
"level": 7,
"resolution": 1.9843789687579376,
"scale": 7500
},
{
"level": 8,
"resolution": 1.5875031750063502,
"scale": 6000
},
{
"level": 9,
"resolution": 1.3229193125052918,
"scale": 5000
},
{
"level": 10,
"resolution": 1.0583354500042335,
"scale": 4000
},
{
"level": 11,
"resolution": 0.7937515875031751,
"scale": 3000
},
{
"level": 12,
"resolution": 0.6614596562526459,
"scale": 2500
},
{
"level": 13,
"resolution": 0.5291677250021167,
"scale": 2000
},
{
"level": 14,
"resolution": 0.26458386250105836,
"scale": 1000
},
{
"level": 15,
"resolution": 0.13229193125052918,
"scale": 500
},
{
"level": 16,
"resolution": 0.06614596562526459,
"scale": 250
},
{
"level": 17,
"resolution": 0.026458386250105836,
"scale": 100
}
]
},
"storageInfo": {
"storageFormat": "esriMapCacheStorageModeCompactV2",
"packetSize": 128
},
"cacheType": "Map",
"allowRasterFunction": true,
"rasterFunctionInfos": [
{
"name": "None",
"description": "",
"help": ""
}
],
"rasterTypeInfos": [
{
"name": "Raster Dataset",
"description": "Supports all ArcGIS Raster Datasets",
"help": ""
}
],
"mensurationCapabilities": "Basic",
"hasHistograms": true,
"hasColormap": false,
"hasRasterAttributeTable": false,
"minScale": 125000,
"maxScale": 100,
"exportTilesAllowed": true,
"maxExportTilesCount": 100000,
"supportsStatistics": false,
"supportsAdvancedQueries": false,
"editFieldsInfo": null,
"ownershipBasedAccessControlForRasters": null,
"allowComputeTiePoints": false,
"useStandardizedQueries": true,
"advancedQueryCapabilities": {
"useStandardizedQueries": true,
"supportsStatistics": false,
"supportsOrderBy": false,
"supportsDistinct": false,
"supportsPagination": false
},
"spatialReference": {
"wkid": 3157,
"latestWkid": 3157
}
}