View In:
ArcGIS JavaScript
ArcGIS Online Map Viewer
ArcGIS Earth
Service Description: 2021 Orthophoto with 10 cm resolution
Name: RASTERS/Orthophoto2021
Description: 2021 Orthophoto with 10 cm resolution
Single Fused Map Cache: true
Tile Info:
- Height: 256
- Width: 256
- DPI: 96
-
Levels of Detail: 18
- Format: JPEG
- Compression Quality: 75.0
- LERC Error: NaN
- Origin: X: 450305.0
Y: 5394781.0
- Spatial Reference: 3157
(3157)
LatestVCSWkid(0)
Storage Info:
- Storage Format: esriMapCacheStorageModeCompactV2
- Packet Size: 128
Extent:
XMin: 464229.96348574175
YMin: 5362431.96020504
XMax: 481229.9635807373
YMax: 5379431.96014171
Spatial Reference: 3157
(3157)
LatestVCSWkid(0)
Initial Extent:
XMin: 464229.96348574175
YMin: 5362431.96020504
XMax: 481229.9635807373
YMax: 5379431.96014171
Spatial Reference: 3157
(3157)
LatestVCSWkid(0)
Full Extent:
XMin: 464229.96348574175
YMin: 5362431.96020504
XMax: 481229.9635807373
YMax: 5379431.96014171
Spatial Reference: 3157
(3157)
LatestVCSWkid(0)
Pixel Size X: 0.1000000005587973
Pixel Size Y: 0.09999999962747097
Band Count: 3
Pixel Type: U8
RasterFunction Infos: {"rasterFunctionInfos": [{
"name": "None",
"description": "",
"help": ""
}]}
Mensuration Capabilities: Basic
Has Histograms: true
Has Colormap: false
Has Multi Dimensions : false
Rendering Rule:
Min Scale: 125000
Max Scale: 100
Copyright Text: District of Saanich; Aeroquest Mapcon Inc.; Kisik Aerial Survey Inc.
Service Data Type: esriImageServiceDataTypeRGB
Min Values: 0, 0, 0
Max Values: 255, 255, 255
Mean Values: 88.68198840605, 97.16443813135, 99.43563100258334
Standard Deviation Values: 51.3367911576857, 47.83250328591225, 44.629141486674754
Object ID Field:
Fields:
None
Default Mosaic Method: Center
Allowed Mosaic Methods:
SortField:
SortValue: null
Mosaic Operator: First
Default Compression Quality: 75
Default Resampling Method: Bilinear
Max Record Count: null
Max Image Height: 4100
Max Image Width: 15000
Max Download Image Count: null
Max Mosaic Image Count: null
Allow Raster Function: true
Allow Copy: true
Allow Analysis: true
Allow Compute TiePoints: false
Supports Statistics: false
Supports Advanced Queries: false
Use StandardizedQueries: true
Raster Type Infos:
Name: Raster Dataset
Description: Supports all ArcGIS Raster Datasets
Help:
Has Raster Attribute Table: false
Edit Fields Info: null
Ownership Based AccessControl For Rasters: null
Child Resources:
Info
Histograms
Statistics
Key Properties
Legend
Raster Function Infos
Supported Operations:
Export Image
Identify
Measure
Compute Histograms
Compute Statistics Histograms
Get Samples
Compute Class Statistics
Query Boundary
Compute Pixel Location
Compute Angles
Validate
Project
EstimateExportTilesSize
ExportTiles