View In:
ArcGIS JavaScript
ArcGIS Online Map Viewer
ArcGIS Earth
Service Description: The 2015 orthophoto is a digital aerial photograph in which displacements due to tilt and relief have been corrected to produce uniform scale and a true representation of the ground. The data capture was contracted out on behalf of the District of Saanich by the CRD to GEOSYS Technology Solutions (North Vancouver, BC, CAN), with the flights being subcontracted to Kisik Aerial Survey Inc. (Delta, BC, CAN). The image was captured in a digital format using a Vexcel UltraCam large format digital photogrammetric camera at 10x10cm resolution. The images were captured May 4th 2015. The images were post processed and loaded into a seamless mosaic and compressed using JPEG2000 (75% compression), then stored in coordinate system UTM Zone 10, NAD83 Datum.
Name: RASTERS/Orthophoto2015
Description: The 2015 orthophoto is a digital aerial photograph in which displacements due to tilt and relief have been corrected to produce uniform scale and a true representation of the ground. The data capture was contracted out on behalf of the District of Saanich by the CRD to GEOSYS Technology Solutions (North Vancouver, BC, CAN), with the flights being subcontracted to Kisik Aerial Survey Inc. (Delta, BC, CAN). The image was captured in a digital format using a Vexcel UltraCam large format digital photogrammetric camera at 10x10cm resolution. The images were captured May 4th 2015. The images were post processed and loaded into a seamless mosaic and compressed using JPEG2000 (75% compression), then stored in coordinate system UTM Zone 10, NAD83 Datum.
Single Fused Map Cache: true
Tile Info:
- Height: 256
- Width: 256
- DPI: 96
-
Levels of Detail: 18
- Format: JPEG
- Compression Quality: 75.0
- LERC Error: NaN
- Origin: X: 450305.0
Y: 5394781.0
- Spatial Reference: 3157
(3157)
LatestVCSWkid(0)
Storage Info:
- Storage Format: esriMapCacheStorageModeCompactV2
- Packet Size: 128
Extent:
XMin: 463938.1634841117
YMin: 5363420.56020136
XMax: 480938.1635791063
YMax: 5379420.56014175
Spatial Reference: 3157
(3157)
LatestVCSWkid(0)
Initial Extent:
XMin: 463938.1634841117
YMin: 5363420.56020136
XMax: 480938.1635791063
YMax: 5379420.56014175
Spatial Reference: 3157
(3157)
LatestVCSWkid(0)
Full Extent:
XMin: 463938.1634841117
YMin: 5363420.56020136
XMax: 480938.1635791063
YMax: 5379420.56014175
Spatial Reference: 3157
(3157)
LatestVCSWkid(0)
Pixel Size X: 0.10000000055879149
Pixel Size Y: 0.09999999962743604
Band Count: 3
Pixel Type: U8
RasterFunction Infos: {"rasterFunctionInfos": [{
"name": "None",
"description": "",
"help": ""
}]}
Mensuration Capabilities: Basic
Has Histograms: true
Has Colormap: false
Has Multi Dimensions : false
Rendering Rule:
Min Scale: 125000
Max Scale: 100
Copyright Text: The Corporation of the District of Saanich, GIS Section; GEOSYS Technology Solutions; Kisik Aerial Survey Inc.
Service Data Type: esriImageServiceDataTypeRGB
Min Values: 1, 1, 1
Max Values: 255, 255, 255
Mean Values: 62.473687574824986, 68.23114893029604, 67.76502708862424
Standard Deviation Values: 39.29452028882016, 37.79049065466703, 35.71612023025311
Object ID Field:
Fields:
None
Default Mosaic Method: Center
Allowed Mosaic Methods:
SortField:
SortValue: null
Mosaic Operator: First
Default Compression Quality: 75
Default Resampling Method: Bilinear
Max Record Count: null
Max Image Height: 4100
Max Image Width: 15000
Max Download Image Count: null
Max Mosaic Image Count: null
Allow Raster Function: true
Allow Copy: true
Allow Analysis: true
Allow Compute TiePoints: false
Supports Statistics: false
Supports Advanced Queries: false
Use StandardizedQueries: true
Raster Type Infos:
Name: Raster Dataset
Description: Supports all ArcGIS Raster Datasets
Help:
Has Raster Attribute Table: false
Edit Fields Info: null
Ownership Based AccessControl For Rasters: null
Child Resources:
Info
Histograms
Statistics
Key Properties
Legend
Raster Function Infos
Supported Operations:
Export Image
Identify
Measure
Compute Histograms
Compute Statistics Histograms
Get Samples
Compute Class Statistics
Query Boundary
Compute Pixel Location
Compute Angles
Validate
Project
EstimateExportTilesSize
ExportTiles