View In:
ArcGIS JavaScript
ArcGIS Online Map Viewer
ArcGIS Earth
Service Description: The 2009 orthophoto is a digital aerial photograph in which displacements due to tilt and relief have been corrected to produce uniform scale and a true representation of the ground. The data capture was contracted out by the District of Saanich to First Base Solutions Inc. (Markam, ONT, CAN) and captured using a Vexcel UltraCam D digital camera. The images were captured over several days in June 2009, post processed and loaded into a seamless mosaic and compressed using JPEG2000 (75% compression). It is stored in coordinate system UTM Zone 10, NAD83 Datum.
Name: RASTERS/Orthophoto2009
Description: The 2009 orthophoto is a digital aerial photograph in which displacements due to tilt and relief have been corrected to produce uniform scale and a true representation of the ground. The data capture was contracted out by the District of Saanich to First Base Solutions Inc. (Markam, ONT, CAN) and captured using a Vexcel UltraCam D digital camera. The images were captured over several days in June 2009, post processed and loaded into a seamless mosaic and compressed using JPEG2000 (75% compression). It is stored in coordinate system UTM Zone 10, NAD83 Datum.
Single Fused Map Cache: true
Tile Info:
- Height: 256
- Width: 256
- DPI: 96
-
Levels of Detail: 18
- Format: JPEG
- Compression Quality: 75.0
- LERC Error: NaN
- Origin: X: 450305.0
Y: 5394781.0
- Spatial Reference: 3157
(3157)
LatestVCSWkid(0)
Storage Info:
- Storage Format: esriMapCacheStorageModeCompactV2
- Packet Size: 128
Extent:
XMin: 464430.0634858787
YMin: 5363999.066780149
XMax: 481001.0635784763
YMax: 5379001.067003701
Spatial Reference: 3157
(3157)
LatestVCSWkid(0)
Initial Extent:
XMin: 464430.0634858787
YMin: 5363999.066780149
XMax: 481001.0635784763
YMax: 5379001.067003701
Spatial Reference: 3157
(3157)
LatestVCSWkid(0)
Full Extent:
XMin: 464430.0634858787
YMin: 5363999.066780149
XMax: 481001.0635784763
YMax: 5379001.067003701
Spatial Reference: 3157
(3157)
LatestVCSWkid(0)
Pixel Size X: 0.1000000005587932
Pixel Size Y: 0.10000000149014716
Band Count: 3
Pixel Type: U8
RasterFunction Infos: {"rasterFunctionInfos": [{
"name": "None",
"description": "",
"help": ""
}]}
Mensuration Capabilities: Basic
Has Histograms: true
Has Colormap: false
Has Multi Dimensions : false
Rendering Rule:
Min Scale: 125000
Max Scale: 100
Copyright Text: The Corporation of the District of Saanich, GIS Section; First Base Solutions Inc.
Service Data Type: esriImageServiceDataTypeRGB
Min Values: 1, 1, 1
Max Values: 255, 255, 255
Mean Values: 103.4019174651216, 103.06288966642296, 97.63227323719646
Standard Deviation Values: 43.57344596292847, 42.04535215959608, 41.7466688514716
Object ID Field:
Fields:
None
Default Mosaic Method: Center
Allowed Mosaic Methods:
SortField:
SortValue: null
Mosaic Operator: First
Default Compression Quality: 75
Default Resampling Method: Bilinear
Max Record Count: null
Max Image Height: 4100
Max Image Width: 15000
Max Download Image Count: null
Max Mosaic Image Count: null
Allow Raster Function: true
Allow Copy: true
Allow Analysis: true
Allow Compute TiePoints: false
Supports Statistics: false
Supports Advanced Queries: false
Use StandardizedQueries: true
Raster Type Infos:
Name: Raster Dataset
Description: Supports all ArcGIS Raster Datasets
Help:
Has Raster Attribute Table: false
Edit Fields Info: null
Ownership Based AccessControl For Rasters: null
Child Resources:
Info
Histograms
Statistics
Key Properties
Legend
Raster Function Infos
Supported Operations:
Export Image
Identify
Measure
Compute Histograms
Compute Statistics Histograms
Get Samples
Compute Class Statistics
Query Boundary
Compute Pixel Location
Compute Angles
Validate
Project
EstimateExportTilesSize
ExportTiles