<?xml version="1.0" encoding="UTF-8" standalone="no"?>
<metadata xml:lang="en">
<Esri>
<CreaDate>20100804</CreaDate>
<CreaTime>09015300</CreaTime>
<SyncOnce>FALSE</SyncOnce>
<ModDate>20220126</ModDate>
<ModTime>12022600</ModTime>
<SyncDate>20220126</SyncDate>
<SyncTime>12021400</SyncTime>
<MetaID>{9243AD7B-36EB-4298-B95E-7A8ED3ACA76E}</MetaID>
<DataProperties>
<itemProps>
<itemName Sync="TRUE">RASTEROWNER.MOSAIC2003</itemName>
<nativeExtBox>
<westBL Sync="TRUE">464700.046148</westBL>
<eastBL Sync="TRUE">481518.496190</eastBL>
<southBL Sync="TRUE">5363582.974322</southBL>
<northBL Sync="TRUE">5378931.874360</northBL>
<exTypeCode Sync="TRUE">1</exTypeCode>
</nativeExtBox>
<itemLocation>
<linkage Sync="TRUE">Server=GIS-TST-ORA1; Service=sde:oracle$GIS-TST-ORA1/GISTST.WIN.SAANICH; User=parfettn; Version=SDE.DEFAULT</linkage>
<protocol Sync="TRUE">ArcSDE Connection</protocol>
</itemLocation>
<imsContentType Sync="TRUE" export="False">002</imsContentType>
</itemProps>
<coordRef>
<type Sync="TRUE">Projected</type>
<geogcsn Sync="TRUE">GCS_North_American_1983_CSRS</geogcsn>
<projcsn Sync="TRUE">NAD_1983_CSRS_UTM_Zone_10N</projcsn>
<peXml Sync="TRUE">&lt;ProjectedCoordinateSystem xsi:type='typens:ProjectedCoordinateSystem' xmlns:xsi='http://www.w3.org/2001/XMLSchema-instance' xmlns:xs='http://www.w3.org/2001/XMLSchema' xmlns:typens='http://www.esri.com/schemas/ArcGIS/10.6'&gt;&lt;WKT&gt;PROJCS[&amp;quot;NAD_1983_CSRS_UTM_Zone_10N&amp;quot;,GEOGCS[&amp;quot;GCS_North_American_1983_CSRS&amp;quot;,DATUM[&amp;quot;D_North_American_1983_CSRS&amp;quot;,SPHEROID[&amp;quot;GRS_1980&amp;quot;,6378137.0,298.257222101]],PRIMEM[&amp;quot;Greenwich&amp;quot;,0.0],UNIT[&amp;quot;Degree&amp;quot;,0.0174532925199433]],PROJECTION[&amp;quot;Transverse_Mercator&amp;quot;],PARAMETER[&amp;quot;False_Easting&amp;quot;,500000.0],PARAMETER[&amp;quot;False_Northing&amp;quot;,0.0],PARAMETER[&amp;quot;Central_Meridian&amp;quot;,-123.0],PARAMETER[&amp;quot;Scale_Factor&amp;quot;,0.9996],PARAMETER[&amp;quot;Latitude_Of_Origin&amp;quot;,0.0],UNIT[&amp;quot;Meter&amp;quot;,1.0],AUTHORITY[&amp;quot;EPSG&amp;quot;,3157]]&lt;/WKT&gt;&lt;XOrigin&gt;-5120900&lt;/XOrigin&gt;&lt;YOrigin&gt;-9998100&lt;/YOrigin&gt;&lt;XYScale&gt;450445547.3910538&lt;/XYScale&gt;&lt;ZOrigin&gt;-100000&lt;/ZOrigin&gt;&lt;ZScale&gt;10000&lt;/ZScale&gt;&lt;MOrigin&gt;-100000&lt;/MOrigin&gt;&lt;MScale&gt;10000&lt;/MScale&gt;&lt;XYTolerance&gt;0.001&lt;/XYTolerance&gt;&lt;ZTolerance&gt;0.001&lt;/ZTolerance&gt;&lt;MTolerance&gt;0.001&lt;/MTolerance&gt;&lt;HighPrecision&gt;true&lt;/HighPrecision&gt;&lt;WKID&gt;3157&lt;/WKID&gt;&lt;LatestWKID&gt;3157&lt;/LatestWKID&gt;&lt;/ProjectedCoordinateSystem&gt;</peXml>
<csUnits Sync="TRUE">Linear Unit: Meter (1.000000)</csUnits>
</coordRef>
<lineage>
<Process Date="20190410" Name="" Time="173901" ToolSource="c:\program files (x86)\arcgis\desktop10.6\ArcToolbox\Toolboxes\Data Management Tools.tbx\CalculateStatistics" export="">CalculateStatistics "Database Connections\RASTEROWNER_GISPRD.sde\RASTEROWNER.MOSAIC2003" 1 100 0 OVERWRITE #</Process>
<Process Date="20230811" Time="161501" ToolSource="c:\program files\arcgis\pro\Resources\ArcToolbox\Toolboxes\Data Management Tools.tbx\CopyMultiple">CopyMultiple "'C:\Users\parfettn\AppData\Roaming\Esri\ArcGISPro\Favorites\rasterowner gis-tst-ora1.sde\RASTEROWNER.MOSAIC2003' RasterDataset" "C:\Users\parfettn\AppData\Roaming\Esri\ArcGISPro\Favorites\rasterowner gis-tst-ora2.sde" MOSAIC2003 "RASTEROWNER.MOSAIC2003 RasterDataset RASTEROWNER.MOSAIC2003 #"</Process>
<Process Date="20230817" Time="115522" ToolSource="c:\program files\arcgis\pro\Resources\ArcToolbox\Toolboxes\Data Management Tools.tbx\CopyMultiple">CopyMultiple "'C:\Users\parfettn\AppData\Roaming\Esri\ArcGISPro\Favorites\rasterowner gis-tst-ora2.sde\RASTEROWNER.MOSAIC2003' RasterDataset" "C:\Users\parfettn\AppData\Roaming\Esri\ArcGISPro\Favorites\rasterowner gis-prd-ora2.sde" MOSAIC2003 "RASTEROWNER.MOSAIC2003 RasterDataset RASTEROWNER.MOSAIC2003 #"</Process>
</lineage>
</DataProperties>
<ArcGISFormat>1.0</ArcGISFormat>
<scaleRange>
<minScale>150000000</minScale>
<maxScale>5000</maxScale>
</scaleRange>
<ArcGISProfile>ISO19139</ArcGISProfile>
</Esri>
<idinfo>
<ptcontac>
<cntinfo>
<cntperp>
<cntper>GIS</cntper>
<cntorg>The Corporation of the District of Saanich, GIS Section</cntorg>
</cntperp>
<cntpos>GIS Coordinator</cntpos>
<cntaddr>
<addrtype>mailing and physical address</addrtype>
<address>770 Vernon Ave</address>
<city>Victoria</city>
<state>British Columbia</state>
<postal>V8X 2W7</postal>
<country>Canada</country>
</cntaddr>
<cntvoice>(250)475-5575</cntvoice>
<cntfax>(250)475-5450</cntfax>
<cntemail>GIS@saanich.ca</cntemail>
</cntinfo>
</ptcontac>
<keywords>
<place>
<placekey>North America</placekey>
<placekey>Canada</placekey>
<placekey>British Columbia</placekey>
<placekey>The Capital Regional District</placekey>
<placekey>Victoria</placekey>
<placekey>Saanich</placekey>
</place>
<theme>
<themekey>orthophoto</themekey>
<themekey>imagery</themekey>
<themekey>image</themekey>
<themekey>raster</themekey>
<themekey>mosaic</themekey>
<themekey>photo</themekey>
<themekey>aerial photograph</themekey>
</theme>
</keywords>
<useconst>Metadata Disclaimer:
In consideration for the District of Saanich granting access to this geographic data, the user agrees to and accepts these Terms of Use. Access to this data is for information purposes and should not be considered authoritative for construction, geotechnical, engineering, navigational, legal or other site-specific uses. This data is not to be distributed in whole or in part in digital format.
All data herein are provided without warranty of any kind. The user assumes the entire risk as to the quality and performance of the data. No guarantees of accuracy or precision are made and The District of Saanich does not accept liability for any damages or misrepresentation caused by inaccuracies in the data, nor is there responsibility assumed to maintain the data in any manner or form or for any period of time. In no event shall The District of Saanich be liable for direct, indirect, incidental, consequential, or special damages of any kind, including, but not limited to, loss of anticipated profits or benefits arising out of use of or reliance on the data. These Terms of Use are governed by the laws of British Columbia, Canada. If any part of these Terms of Use are found to be unenforceable, then that part will be severed so that the remainder of these Terms of Use can continue to be enforceable.
</useconst>
<citation>
<citeinfo>
<origin>The Corporation of the District of Saanich, GIS Section</origin>
<pubdate>2003</pubdate>
<title>RASTEROWNER.MOSAIC2003</title>
<ftname Sync="TRUE">GISOWNER.MOSAIC2003</ftname>
<geoform Sync="TRUE">SDE raster digital data</geoform>
<onlink Sync="TRUE">Server=gis1; Service=esri_sde_gisprod; User=gisowner; Version=SDE.DEFAULT</onlink>
</citeinfo>
</citation>
<native Sync="TRUE">Microsoft Windows XP Version 5.1 (Build 2600) Service Pack 3; ESRI ArcCatalog 9.3.1.3000</native>
<descript>
<langdata Sync="TRUE">en</langdata>
<abstract>This 2003 orthophoto is a computer-generated image of an aerial photograph in which displacements caused by camera orientation and terrain have been corrected and projected to a standardized map projection. The aerial photography was contracted out by the District of Saanich to Delta Aerial Surveys Ltd. (Richmond, BC, CAN) and was originally captured in Kodak Aerocolor III negative film. It was converted to a mosaic and compressed using compression type LZ77. It was then projected to a common coordinate system (UTM Zone 10, NAD83 Datum).</abstract>
<purpose>The 2003 orthophoto is used for detailed municipal mapping such as land use planning, zoning enforcement, and development and bylaw applications and for historical referencing, to assess change to features over time.</purpose>
</descript>
<timeperd>
<current>ground condition</current>
<timeinfo>
<sngdate>
<caldate>May 2003</caldate>
</sngdate>
</timeinfo>
</timeperd>
<status>
<progress>Complete</progress>
<update>None planned</update>
</status>
<spdom>
<bounding>
<westbc Sync="TRUE">-123.478443</westbc>
<eastbc Sync="TRUE">-123.249816</eastbc>
<northbc Sync="TRUE">48.563208</northbc>
<southbc Sync="TRUE">48.424407</southbc>
</bounding>
<lboundng>
<leftbc Sync="TRUE">464700.030976</leftbc>
<rightbc Sync="TRUE">481518.480972</rightbc>
<bottombc Sync="TRUE">5363582.974322</bottombc>
<topbc Sync="TRUE">5378931.874360</topbc>
</lboundng>
</spdom>
<natvform Sync="TRUE">SDE Raster Dataset</natvform>
</idinfo>
<metainfo>
<metc>
<cntinfo>
<cntperp>
<cntorg>The Corporation of the District of Saanich, GIS Section</cntorg>
</cntperp>
<cntpos>Sr GIS Analyst</cntpos>
<cntaddr>
<addrtype>mailing and physical address</addrtype>
<address>770 Vernon Ave</address>
<city>Victoria</city>
<state>British Columbia</state>
<postal>V8X 2W7</postal>
<country>Canada</country>
</cntaddr>
<cntvoice>(250) 475-5575 ext </cntvoice>
<cntfax>(250) 475-5450</cntfax>
</cntinfo>
</metc>
<metd Sync="TRUE">20110221</metd>
<langmeta Sync="TRUE">en</langmeta>
<metstdn Sync="TRUE">FGDC Content Standards for Digital Geospatial Metadata</metstdn>
<metstdv Sync="TRUE">FGDC-STD-001-1998</metstdv>
<mettc Sync="TRUE">local time</mettc>
</metainfo>
<dataqual>
<lineage>
<procstep>
<procdesc>The 2003 Orthophoto capture project was instigated by Gerry Powell, Engineeiring Technology Coordinator for the District of Saanich. An RFP was sent out to consultants and Delta Aerial Surveys Ltd. was selected to complete the project. The aerial photography was captured between May and June 2003. More secifically, photos 1 to 147 were captured on May 8, 2003 and photos 148 to 203 on June 3, 2003.
The aerial photography specs were as follows:
Flying height 5,888 feet ASL
Camera Wild RC 20
Lens UAG S Nr 13407
Focal length 153.330 mm
Film Kodak Aerocolor III negative
Scanner Vexcel Ultrascan 5000
Scan resolution Original scans 10 um (15cm pixel)
Resolution Approx 150 mm ground scale (Resolution 15cm)
Color prints 1 to 203
Color prints scale 1:10000</procdesc>
<procdate>May/June 2003</procdate>
</procstep>
<procstep>
<procdesc Sync="TRUE">Metadata imported.</procdesc>
<srcused Sync="TRUE">M:\Saanich_Gis_CSRS2000\GIS\Metadata\XML\raw export\Orthophoto2003.xml</srcused>
<procdate Sync="TRUE">20100804</procdate>
<proctime Sync="TRUE">09015300</proctime>
</procstep>
</lineage>
<posacc>
<horizpa>
<horizpar>The horizontal positional accuracy for the 2003 orthophoto is unknown.</horizpar>
</horizpa>
</posacc>
<complete>The orthophoto covers the entire District of Saanich, extending beyond the municipal boundary in some areas, with no gaps or omissions.</complete>
<logic>The 2003 Orthophoto has a resolution of 15cm.</logic>
</dataqual>
<distinfo>
<resdesc Sync="TRUE">Downloadable Data</resdesc>
</distinfo>
<spdoinfo>
<direct Sync="TRUE">Raster</direct>
<rastinfo>
<rasttype Sync="TRUE">Pixel</rasttype>
<rowcount Sync="TRUE">102326</rowcount>
<colcount Sync="TRUE">112123</colcount>
<rastxsz Sync="TRUE">0.150000</rastxsz>
<rastysz Sync="TRUE">0.150000</rastysz>
<rastbpp Sync="TRUE">8</rastbpp>
<vrtcount Sync="TRUE">1</vrtcount>
<rastorig Sync="TRUE">Upper Left</rastorig>
<rastcmap Sync="TRUE">FALSE</rastcmap>
<rastcomp Sync="TRUE">JPEG2000</rastcomp>
<rastband Sync="TRUE">3</rastband>
<rastdtyp Sync="TRUE">pixel codes</rastdtyp>
<rastifor Sync="TRUE">SDR</rastifor>
<rastplyr Sync="TRUE">TRUE</rastplyr>
</rastinfo>
</spdoinfo>
<spref>
<horizsys>
<cordsysn>
<geogcsn Sync="TRUE">GCS_North_American_1983</geogcsn>
<projcsn Sync="TRUE">NAD_1983_UTM_Zone_10N</projcsn>
</cordsysn>
<planar>
<planci>
<plance Sync="TRUE">row and column</plance>
<plandu Sync="TRUE">meters</plandu>
<coordrep>
<absres Sync="TRUE">0.150000</absres>
<ordres Sync="TRUE">0.150000</ordres>
</coordrep>
</planci>
</planar>
<geodetic>
<horizdn Sync="TRUE">North American Datum of 1983</horizdn>
<ellips Sync="TRUE">Geodetic Reference System 80</ellips>
<semiaxis Sync="TRUE">6378137.000000</semiaxis>
<denflat Sync="TRUE">298.257222</denflat>
</geodetic>
</horizsys>
<vertdef>
<altsys>
<altenc Sync="TRUE">Explicit elevation coordinate included with horizontal coordinates</altenc>
<altres Sync="TRUE">1.000000</altres>
</altsys>
</vertdef>
</spref>
<mdLang>
<languageCode value="eng"/>
<countryCode Sync="TRUE" value="USA"/>
</mdLang>
<mdChar>
<CharSetCd value="004"/>
</mdChar>
<mdHrLv>
<ScopeCd value="005"/>
</mdHrLv>
<mdContact>
<rpOrgName>The Corporation of the District of Saanich, GIS Section</rpOrgName>
<rpPosName>Sr GIS Analyst</rpPosName>
<rpCntInfo>
<cntPhone>
<voiceNum tddtty="">(250) 475-5575 ext</voiceNum>
<faxNum>(250) 475-5450</faxNum>
</cntPhone>
<cntAddress addressType="both">
<delPoint>770 Vernon Ave</delPoint>
<city>Victoria</city>
<adminArea>British Columbia</adminArea>
<postCode>V8X 2W7</postCode>
<country>CA</country>
<country>CA</country>
</cntAddress>
</rpCntInfo>
<role>
<RoleCd value="007"/>
</role>
</mdContact>
<mdStanName>ArcGIS Metadata</mdStanName>
<mdStanVer>1.0</mdStanVer>
<dataIdInfo>
<idCitation>
<resTitle Sync="FALSE">Orthophoto2003</resTitle>
<date>
<pubDate>2003-01-01T00:00:00</pubDate>
</date>
<citRespParty>
<rpOrgName>The Corporation of the District of Saanich, GIS Section</rpOrgName>
<role>
<RoleCd value="002"/>
</role>
</citRespParty>
<presForm>
<PresFormCd Sync="TRUE" value="011"/>
</presForm>
</idCitation>
<idAbs>&lt;div style='text-align:Left;'&gt;&lt;div&gt;&lt;div&gt;&lt;p&gt;&lt;span&gt;The 2003 orthophoto is a digital aerial photograph in which displacements due to tilt and relief have been corrected to produce uniform scale and a true representation of the ground. The data capture was contracted out by the District of Saanich to Delta Aerial Surveys Ltd. (Richmond, BC, CAN) and was originally captured in Kodak Aerocolor III negative film. The images were captured on May 8 and June 3 2003, post processed and loaded into a seamless mosaic and compressed using compression type LZ77. It is stored in coordinate system UTM Zone 10, NAD83 Datum.&lt;/span&gt;&lt;/p&gt;&lt;/div&gt;&lt;/div&gt;&lt;/div&gt;</idAbs>
<idPurp>The 2003 orthophoto is used for detailed municipal mapping purposes such as land use planning, zoning enforcement, development and bylaw applications and for...</idPurp>
<idStatus>
<ProgCd value="001"/>
</idStatus>
<idPoC>
<rpIndName>GIS</rpIndName>
<rpOrgName>The Corporation of the District of Saanich, GIS Section</rpOrgName>
<rpPosName>GIS Coordinator</rpPosName>
<rpCntInfo>
<cntPhone>
<voiceNum>(250)475-5575</voiceNum>
<faxNum>(250)475-5450</faxNum>
</cntPhone>
<cntAddress addressType="both">
<delPoint>770 Vernon Ave</delPoint>
<city>Victoria</city>
<adminArea>British Columbia</adminArea>
<postCode>V8X 2W7</postCode>
<country>CA</country>
<country>CA</country>
<eMailAdd>GIS@saanich.ca</eMailAdd>
</cntAddress>
</rpCntInfo>
<role>
<RoleCd value="007"/>
</role>
</idPoC>
<resMaint>
<maintFreq>
<MaintFreqCd value="009"/>
</maintFreq>
<usrDefFreq>
<duration>Every 2 years</duration>
</usrDefFreq>
</resMaint>
<placeKeys>
<keyword>British Columbia</keyword>
<keyword>Saanich</keyword>
<keyword>North America</keyword>
<keyword>The Capital Regional District</keyword>
<keyword>Victoria</keyword>
<keyword>Canada</keyword>
</placeKeys>
<themeKeys>
<keyword>orthophoto</keyword>
<keyword>imagery</keyword>
<keyword>image</keyword>
<keyword>raster</keyword>
<keyword>mosaic</keyword>
<keyword>photo</keyword>
<keyword>aerial photograph</keyword>
</themeKeys>
<searchKeys>
<keyword>British Columbia</keyword>
<keyword>orthophoto</keyword>
<keyword>imagery</keyword>
<keyword>image</keyword>
<keyword>Saanich</keyword>
<keyword>raster</keyword>
<keyword>North America</keyword>
<keyword>mosaic</keyword>
<keyword>The Capital Regional District</keyword>
<keyword>Victoria</keyword>
<keyword>photo</keyword>
<keyword>aerial photograph</keyword>
<keyword>Canada</keyword>
</searchKeys>
<resConst>
<Consts>
<useLimit>&lt;div style='text-align:Left;'&gt;&lt;div&gt;&lt;div&gt;&lt;p&gt;&lt;span&gt;Metadata Disclaimer: In consideration for the District of Saanich granting access to this geographic data, the user agrees to and accepts these Terms of Use. Access to this data is for information purposes and should not be considered authoritative for construction, geotechnical, engineering, navigational, legal or other site-specific uses. This data is not to be distributed in whole or in part in digital format. All data herein are provided without warranty of any kind. The user assumes the entire risk as to the quality and performance of the data. No guarantees of accuracy or precision are made and The District of Saanich does not accept liability for any damages or misrepresentation caused by inaccuracies in the data, nor is there responsibility assumed to maintain the data in any manner or form or for any period of time. In no event shall The District of Saanich be liable for direct, indirect, incidental, consequential, or special damages of any kind, including, but not limited to, loss of anticipated profits or benefits arising out of use of or reliance on the data. These Terms of Use are governed by the laws of British Columbia, Canada. If any part of these Terms of Use are found to be unenforceable, then that part will be severed so that the remainder of these Terms of Use can continue to be enforceable.&lt;/span&gt;&lt;/p&gt;&lt;/div&gt;&lt;/div&gt;&lt;/div&gt;</useLimit>
</Consts>
</resConst>
<dataLang>
<languageCode value="eng"/>
<countryCode Sync="TRUE" value="USA"/>
</dataLang>
<dataExt>
<exDesc>ground condition</exDesc>
</dataExt>
<envirDesc Sync="TRUE">Microsoft Windows 7 Version 6.1 (Build 7601) Service Pack 1; Esri ArcGIS 10.6.1.9328</envirDesc>
<spatRpType>
<SpatRepTypCd Sync="TRUE" value="002"/>
</spatRpType>
<dataExt>
<geoEle>
<GeoBndBox esriExtentType="search">
<exTypeCode Sync="TRUE">1</exTypeCode>
<westBL Sync="TRUE">-123.478443</westBL>
<eastBL Sync="TRUE">-123.249816</eastBL>
<northBL Sync="TRUE">48.563208</northBL>
<southBL Sync="TRUE">48.424407</southBL>
</GeoBndBox>
</geoEle>
</dataExt>
<idCredit>The Corporation of the District of Saanich, GIS Section; Delta Aerial Surveys Ltd.</idCredit>
<dataChar>
<CharSetCd value="004"/>
</dataChar>
<tpCat>
<TopicCatCd value="010"/>
</tpCat>
</dataIdInfo>
<dqInfo>
<dqScope>
<scpLvl>
<ScopeCd value="005"/>
</scpLvl>
</dqScope>
<report dimension="" type="DQCompOm">
<evalMethDesc>The orthophoto covers the entire District of Saanich, extending beyond the municipal boundary in some areas, with no gaps or omissions.</evalMethDesc>
</report>
<report dimension="" type="DQConcConsis">
<measDesc>The 2003 Orthophoto has a resolution of 15cm.</measDesc>
</report>
<dataLineage>
<prcStep>
<stepDesc>The 2003 Orthophoto capture project was managed by Gerry Powell, Engineeiring Technology Coordinator for the District of Saanich. An RFP was sent out to consultants and Delta Aerial Surveys Ltd. was selected to complete the project. The aerial photography was captured between May and June 2003. More specifically, photos 1 to 147 were captured on May 8, 2003 and photos 148 to 203 on June 3, 2003. The aerial photography specs were as follows: Flying height 5,888 feet ASL Camera Wild RC 20 Lens UAG S Nr 13407 Focal length 153.330 mm Film Kodak Aerocolor III negative Scanner Vexcel Ultrascan 5000 Scan resolution Original scans 10 um (15cm pixel) Resolution Approx 150 mm ground scale (Resolution 15cm) Color prints 1 to 203 Color prints scale 1:10000</stepDesc>
</prcStep>
</dataLineage>
</dqInfo>
<distInfo>
<distFormat>
<formatName Sync="TRUE">SDE Raster Dataset</formatName>
</distFormat>
</distInfo>
<mdHrLvName Sync="TRUE">dataset</mdHrLvName>
<refSysInfo>
<RefSystem>
<refSysID>
<identCode Sync="TRUE" code="3157"/>
<idCodeSpace Sync="TRUE">EPSG</idCodeSpace>
<idVersion Sync="TRUE">6.11(9.3.0.0)</idVersion>
</refSysID>
</RefSystem>
</refSysInfo>
<mdDateSt Sync="TRUE">20220126</mdDateSt>
</metadata>
