<?xml version="1.0" encoding="UTF-8" standalone="no"?>
<metadata xml:lang="en">
<Esri>
<CreaDate>20130611</CreaDate>
<CreaTime>13450500</CreaTime>
<ArcGISFormat>1.0</ArcGISFormat>
<SyncOnce>FALSE</SyncOnce>
<DataProperties>
<lineage>
<Process Date="20130611" Name="" Time="134505" ToolSource="c:\program files (x86)\arcgis\desktop10.1\ArcToolbox\Toolboxes\Data Management Tools.tbx\CreateRasterDataset" export="">CreateRasterDataset "Database Connections\RASTEROWNER Connection to oracle7.sde" MOSAIC2001 0.25 8_BIT_UNSIGNED PROJCS['NAD_1983_UTM_Zone_10N',GEOGCS['GCS_North_American_1983',DATUM['D_North_American_1983',SPHEROID['GRS_1980',6378137.0,298.257222101]],PRIMEM['Greenwich',0.0],UNIT['Degree',0.0174532925199433]],PROJECTION['Transverse_Mercator'],PARAMETER['False_Easting',500000.0],PARAMETER['False_Northing',0.0],PARAMETER['Central_Meridian',-123.0],PARAMETER['Scale_Factor',0.9996],PARAMETER['Latitude_Of_Origin',0.0],UNIT['Meter',1.0]] 3 # "PYRAMIDS -1 NEAREST DEFAULT 75 NO_SKIP" "128 128" LZ77 "-5120763.26772284 9997963.94293634"</Process>
<Process Date="20130611" Name="" Time="140950" ToolSource="c:\program files (x86)\arcgis\desktop10.1\ArcToolbox\Toolboxes\Data Management Tools.tbx\Mosaic" export="">Mosaic 'M:\Saanich_Gis_CSRS2000\Reference_Images\Older orthophotos\Orthophoto_Color_Nad83_2001\2001 Tiff\92b.043.2.4.4.tif';'M:\Saanich_Gis_CSRS2000\Reference_Images\Older orthophotos\Orthophoto_Color_Nad83_2001\2001 Tiff\92b.043.4.1.4.tif';'M:\Saanich_Gis_CSRS2000\Reference_Images\Older orthophotos\Orthophoto_Color_Nad83_2001\2001 Tiff\92b.043.4.2.2.tif';'M:\Saanich_Gis_CSRS2000\Reference_Images\Older orthophotos\Orthophoto_Color_Nad83_2001\2001 Tiff\92b.043.4.2.3.tif';'M:\Saanich_Gis_CSRS2000\Reference_Images\Older orthophotos\Orthophoto_Color_Nad83_2001\2001 Tiff\92b.043.4.3.4.tif';'M:\Saanich_Gis_CSRS2000\Reference_Images\Older orthophotos\Orthophoto_Color_Nad83_2001\2001 Tiff\92b.043.4.4.1.tif';'M:\Saanich_Gis_CSRS2000\Reference_Images\Older orthophotos\Orthophoto_Color_Nad83_2001\2001 Tiff\92b.043.4.4.2.tif';'M:\Saanich_Gis_CSRS2000\Reference_Images\Older orthophotos\Orthophoto_Color_Nad83_2001\2001 Tiff\92b.043.4.4.3.tif';'M:\Saanich_Gis_CSRS2000\Reference_Images\Older orthophotos\Orthophoto_Color_Nad83_2001\2001 Tiff\92b.043.4.4.4.tif';'M:\Saanich_Gis_CSRS2000\Reference_Images\Older orthophotos\Orthophoto_Color_Nad83_2001\2001 Tiff\92b.044.1.3.3.tif';'M:\Saanich_Gis_CSRS2000\Reference_Images\Older orthophotos\Orthophoto_Color_Nad83_2001\2001 Tiff\92b.044.1.3.4.tif';'M:\Saanich_Gis_CSRS2000\Reference_Images\Older orthophotos\Orthophoto_Color_Nad83_2001\2001 Tiff\92b.044.1.4.1.tif';'M:\Saanich_Gis_CSRS2000\Reference_Images\Older orthophotos\Orthophoto_Color_Nad83_2001\2001 Tiff\92b.044.1.4.2.tif';'M:\Saanich_Gis_CSRS2000\Reference_Images\Older orthophotos\Orthophoto_Color_Nad83_2001\2001 Tiff\92b.044.1.4.3.tif';'M:\Saanich_Gis_CSRS2000\Reference_Images\Older orthophotos\Orthophoto_Color_Nad83_2001\2001 Tiff\92b.044.1.4.4.tif';'M:\Saanich_Gis_CSRS2000\Reference_Images\Older orthophotos\Orthophoto_Color_Nad83_2001\2001 Tiff\92b.044.3.1.1.tif';'M:\Saanich_Gis_CSRS2000\Reference_Images\Older orthophotos\Orthophoto_Color_Nad83_2001\2001 Tiff\92b.044.3.1.2.tif';'M:\Saanich_Gis_CSRS2000\Reference_Images\Older orthophotos\Orthophoto_Color_Nad83_2001\2001 Tiff\92b.044.3.1.3.tif' "Database Connections\RASTEROWNER Connection to oracle7.sde\RASTEROWNER.MOSAIC2001" LAST FIRST # # NONE 0 NONE</Process>
<Process Date="20130611" Name="" Time="143238" ToolSource="c:\program files (x86)\arcgis\desktop10.1\ArcToolbox\Toolboxes\Data Management Tools.tbx\Mosaic" export="">Mosaic 'M:\Saanich_Gis_CSRS2000\Reference_Images\Older orthophotos\Orthophoto_Color_Nad83_2001\2001 Tiff\92b.044.3.1.4.tif';'M:\Saanich_Gis_CSRS2000\Reference_Images\Older orthophotos\Orthophoto_Color_Nad83_2001\2001 Tiff\92b.044.3.2.1.tif';'M:\Saanich_Gis_CSRS2000\Reference_Images\Older orthophotos\Orthophoto_Color_Nad83_2001\2001 Tiff\92b.044.3.2.2.tif';'M:\Saanich_Gis_CSRS2000\Reference_Images\Older orthophotos\Orthophoto_Color_Nad83_2001\2001 Tiff\92b.044.3.2.3.tif';'M:\Saanich_Gis_CSRS2000\Reference_Images\Older orthophotos\Orthophoto_Color_Nad83_2001\2001 Tiff\92b.044.3.2.4.tif';'M:\Saanich_Gis_CSRS2000\Reference_Images\Older orthophotos\Orthophoto_Color_Nad83_2001\2001 Tiff\92b.044.3.3.2.tif';'M:\Saanich_Gis_CSRS2000\Reference_Images\Older orthophotos\Orthophoto_Color_Nad83_2001\2001 Tiff\92B.044.3.3.3.tif';'M:\Saanich_Gis_CSRS2000\Reference_Images\Older orthophotos\Orthophoto_Color_Nad83_2001\2001 Tiff\92B.044.3.3.4.tif';'M:\Saanich_Gis_CSRS2000\Reference_Images\Older orthophotos\Orthophoto_Color_Nad83_2001\2001 Tiff\92b.044.3.4.1.tif';'M:\Saanich_Gis_CSRS2000\Reference_Images\Older orthophotos\Orthophoto_Color_Nad83_2001\2001 Tiff\92b.044.3.4.2.tif';'M:\Saanich_Gis_CSRS2000\Reference_Images\Older orthophotos\Orthophoto_Color_Nad83_2001\2001 Tiff\92B.044.3.4.3.tif';'M:\Saanich_Gis_CSRS2000\Reference_Images\Older orthophotos\Orthophoto_Color_Nad83_2001\2001 Tiff\92B.044.3.4.4.tif';'M:\Saanich_Gis_CSRS2000\Reference_Images\Older orthophotos\Orthophoto_Color_Nad83_2001\2001 Tiff\92b.044.4.1.1.tif';'M:\Saanich_Gis_CSRS2000\Reference_Images\Older orthophotos\Orthophoto_Color_Nad83_2001\2001 Tiff\92b.044.4.1.2.tif';'M:\Saanich_Gis_CSRS2000\Reference_Images\Older orthophotos\Orthophoto_Color_Nad83_2001\2001 Tiff\92b.044.4.1.3.tif';'M:\Saanich_Gis_CSRS2000\Reference_Images\Older orthophotos\Orthophoto_Color_Nad83_2001\2001 Tiff\92b.044.4.3.1.tif';'M:\Saanich_Gis_CSRS2000\Reference_Images\Older orthophotos\Orthophoto_Color_Nad83_2001\2001 Tiff\92B.053.2.1.2.tif';'M:\Saanich_Gis_CSRS2000\Reference_Images\Older orthophotos\Orthophoto_Color_Nad83_2001\2001 Tiff\92B.053.2.1.4.tif' "Database Connections\RASTEROWNER Connection to oracle7.sde\RASTEROWNER.MOSAIC2001" LAST FIRST # # NONE 0 NONE</Process>
<Process Date="20130611" Name="" Time="150544" ToolSource="c:\program files (x86)\arcgis\desktop10.1\ArcToolbox\Toolboxes\Data Management Tools.tbx\Mosaic" export="">Mosaic 'M:\Saanich_Gis_CSRS2000\Reference_Images\Older orthophotos\Orthophoto_Color_Nad83_2001\2001 Tiff\92b.053.2.2.1.tif';'M:\Saanich_Gis_CSRS2000\Reference_Images\Older orthophotos\Orthophoto_Color_Nad83_2001\2001 Tiff\92b.053.2.2.2.tif';'M:\Saanich_Gis_CSRS2000\Reference_Images\Older orthophotos\Orthophoto_Color_Nad83_2001\2001 Tiff\92b.053.2.2.3.tif';'M:\Saanich_Gis_CSRS2000\Reference_Images\Older orthophotos\Orthophoto_Color_Nad83_2001\2001 Tiff\92b.053.2.2.4.tif';'M:\Saanich_Gis_CSRS2000\Reference_Images\Older orthophotos\Orthophoto_Color_Nad83_2001\2001 Tiff\92B.053.2.3.2.tif';'M:\Saanich_Gis_CSRS2000\Reference_Images\Older orthophotos\Orthophoto_Color_Nad83_2001\2001 Tiff\92B.053.2.3.4.tif';'M:\Saanich_Gis_CSRS2000\Reference_Images\Older orthophotos\Orthophoto_Color_Nad83_2001\2001 Tiff\92b.053.2.4.1.tif';'M:\Saanich_Gis_CSRS2000\Reference_Images\Older orthophotos\Orthophoto_Color_Nad83_2001\2001 Tiff\92b.053.2.4.2.tif';'M:\Saanich_Gis_CSRS2000\Reference_Images\Older orthophotos\Orthophoto_Color_Nad83_2001\2001 Tiff\92b.053.2.4.3.tif';'M:\Saanich_Gis_CSRS2000\Reference_Images\Older orthophotos\Orthophoto_Color_Nad83_2001\2001 Tiff\92b.053.2.4.4.tif';'M:\Saanich_Gis_CSRS2000\Reference_Images\Older orthophotos\Orthophoto_Color_Nad83_2001\2001 Tiff\92B.053.4.1.2.tif';'M:\Saanich_Gis_CSRS2000\Reference_Images\Older orthophotos\Orthophoto_Color_Nad83_2001\2001 Tiff\92B.053.4.2.1.tif';'M:\Saanich_Gis_CSRS2000\Reference_Images\Older orthophotos\Orthophoto_Color_Nad83_2001\2001 Tiff\92B.053.4.2.2.tif';'M:\Saanich_Gis_CSRS2000\Reference_Images\Older orthophotos\Orthophoto_Color_Nad83_2001\2001 Tiff\92B.054.1.1.1.tif';'M:\Saanich_Gis_CSRS2000\Reference_Images\Older orthophotos\Orthophoto_Color_Nad83_2001\2001 Tiff\92B.054.1.1.2.tif';'M:\Saanich_Gis_CSRS2000\Reference_Images\Older orthophotos\Orthophoto_Color_Nad83_2001\2001 Tiff\92B.054.1.1.3.tif';'M:\Saanich_Gis_CSRS2000\Reference_Images\Older orthophotos\Orthophoto_Color_Nad83_2001\2001 Tiff\92B.054.1.1.4.tif';'M:\Saanich_Gis_CSRS2000\Reference_Images\Older orthophotos\Orthophoto_Color_Nad83_2001\2001 Tiff\92B.054.1.2.1.tif';'M:\Saanich_Gis_CSRS2000\Reference_Images\Older orthophotos\Orthophoto_Color_Nad83_2001\2001 Tiff\92B.054.1.3.1.tif';'M:\Saanich_Gis_CSRS2000\Reference_Images\Older orthophotos\Orthophoto_Color_Nad83_2001\2001 Tiff\92B.054.1.3.2.tif';'M:\Saanich_Gis_CSRS2000\Reference_Images\Older orthophotos\Orthophoto_Color_Nad83_2001\2001 Tiff\92B.054.1.3.3.tif';'M:\Saanich_Gis_CSRS2000\Reference_Images\Older orthophotos\Orthophoto_Color_Nad83_2001\2001 Tiff\92B.054.1.3.4.tif';'M:\Saanich_Gis_CSRS2000\Reference_Images\Older orthophotos\Orthophoto_Color_Nad83_2001\2001 Tiff\92B.054.3.1.1.tif';'M:\Saanich_Gis_CSRS2000\Reference_Images\Older orthophotos\Orthophoto_Color_Nad83_2001\2001 Tiff\92B.054.3.1.2.tif' "Database Connections\RASTEROWNER Connection to oracle7.sde\RASTEROWNER.MOSAIC2001" LAST FIRST # # NONE 0 NONE</Process>
<Process Date="20130612" Name="" Time="103523" ToolSource="c:\program files (x86)\arcgis\desktop10.1\ArcToolbox\Toolboxes\Data Management Tools.tbx\Mosaic" export="">Mosaic 'M:\Saanich_Gis_CSRS2000\Reference_Images\Older orthophotos\Orthophoto_Color_Nad83_2001\2001 Tiff\92b.043.4.2.4.tif' "Database Connections\RASTEROWNER Connection to oracle7.sde\RASTEROWNER.MOSAIC2001" LAST FIRST # # NONE 0 NONE</Process>
<Process Date="20130612" Name="" Time="104508" ToolSource="c:\program files (x86)\arcgis\desktop10.1\ArcToolbox\Toolboxes\Data Management Tools.tbx\Mosaic" export="">Mosaic 'M:\Saanich_Gis_CSRS2000\Reference_Images\Older orthophotos\Orthophoto_Color_Nad83_2001\2001 Tiff\92b.044.3.3.1.tif' "Database Connections\RASTEROWNER Connection to oracle7.sde\RASTEROWNER.MOSAIC2001" LAST FIRST # # NONE 0 NONE</Process>
<Process Date="20190410" Name="" Time="162300" ToolSource="c:\program files (x86)\arcgis\desktop10.6\ArcToolbox\Toolboxes\Data Management Tools.tbx\CalculateStatistics" export="">CalculateStatistics "Database Connections\RASTEROWNER_GISPRD.sde\RASTEROWNER.MOSAIC2001" 1 100 0 OVERWRITE #</Process>
<Process Date="20230811" Time="150924" ToolSource="c:\program files\arcgis\pro\Resources\ArcToolbox\Toolboxes\Data Management Tools.tbx\CopyMultiple">CopyMultiple "'C:\Users\parfettn\AppData\Roaming\Esri\ArcGISPro\Favorites\rasterowner gis-tst-ora1.sde\RASTEROWNER.MOSAIC2001' RasterDataset" "C:\Users\parfettn\AppData\Roaming\Esri\ArcGISPro\Favorites\rasterowner gis-tst-ora2.sde" MOSAIC2001 "RASTEROWNER.MOSAIC2001 RasterDataset RASTEROWNER.MOSAIC2001 #"</Process>
<Process Date="20230817" Time="111243" ToolSource="c:\program files\arcgis\pro\Resources\ArcToolbox\Toolboxes\Data Management Tools.tbx\CopyMultiple">CopyMultiple "'C:\Users\parfettn\AppData\Roaming\Esri\ArcGISPro\Favorites\rasterowner gis-tst-ora2.sde\RASTEROWNER.MOSAIC2001' RasterDataset" "C:\Users\parfettn\AppData\Roaming\Esri\ArcGISPro\Favorites\rasterowner gis-prd-ora2.sde" MOSAIC2001 "RASTEROWNER.MOSAIC2001 RasterDataset RASTEROWNER.MOSAIC2001 #"</Process>
</lineage>
<itemProps>
<itemName Sync="TRUE">RASTEROWNER.MOSAIC2001</itemName>
<imsContentType Sync="TRUE" export="False">002</imsContentType>
<nativeExtBox>
<westBL Sync="TRUE">464699.982277</westBL>
<eastBL Sync="TRUE">481518.482277</eastBL>
<southBL Sync="TRUE">5363582.442936</southBL>
<northBL Sync="TRUE">5378931.942936</northBL>
<exTypeCode Sync="TRUE">1</exTypeCode>
</nativeExtBox>
<itemLocation>
<linkage Sync="TRUE">Server=GIS-TST-ORA1; Service=sde:oracle$GIS-TST-ORA1/GISTST.WIN.SAANICH; User=parfettn; Version=SDE.DEFAULT</linkage>
<protocol Sync="TRUE">ArcSDE Connection</protocol>
</itemLocation>
</itemProps>
<coordRef>
<type Sync="TRUE">Projected</type>
<geogcsn Sync="TRUE">GCS_North_American_1983_CSRS</geogcsn>
<csUnits Sync="TRUE">Linear Unit: Meter (1.000000)</csUnits>
<projcsn Sync="TRUE">NAD_1983_CSRS_UTM_Zone_10N</projcsn>
<peXml Sync="TRUE">&lt;ProjectedCoordinateSystem xsi:type='typens:ProjectedCoordinateSystem' xmlns:xsi='http://www.w3.org/2001/XMLSchema-instance' xmlns:xs='http://www.w3.org/2001/XMLSchema' xmlns:typens='http://www.esri.com/schemas/ArcGIS/10.6'&gt;&lt;WKT&gt;PROJCS[&amp;quot;NAD_1983_CSRS_UTM_Zone_10N&amp;quot;,GEOGCS[&amp;quot;GCS_North_American_1983_CSRS&amp;quot;,DATUM[&amp;quot;D_North_American_1983_CSRS&amp;quot;,SPHEROID[&amp;quot;GRS_1980&amp;quot;,6378137.0,298.257222101]],PRIMEM[&amp;quot;Greenwich&amp;quot;,0.0],UNIT[&amp;quot;Degree&amp;quot;,0.0174532925199433]],PROJECTION[&amp;quot;Transverse_Mercator&amp;quot;],PARAMETER[&amp;quot;False_Easting&amp;quot;,500000.0],PARAMETER[&amp;quot;False_Northing&amp;quot;,0.0],PARAMETER[&amp;quot;Central_Meridian&amp;quot;,-123.0],PARAMETER[&amp;quot;Scale_Factor&amp;quot;,0.9996],PARAMETER[&amp;quot;Latitude_Of_Origin&amp;quot;,0.0],UNIT[&amp;quot;Meter&amp;quot;,1.0],AUTHORITY[&amp;quot;EPSG&amp;quot;,3157]]&lt;/WKT&gt;&lt;XOrigin&gt;-5120900&lt;/XOrigin&gt;&lt;YOrigin&gt;-9998100&lt;/YOrigin&gt;&lt;XYScale&gt;450445547.3910538&lt;/XYScale&gt;&lt;ZOrigin&gt;-100000&lt;/ZOrigin&gt;&lt;ZScale&gt;10000&lt;/ZScale&gt;&lt;MOrigin&gt;-100000&lt;/MOrigin&gt;&lt;MScale&gt;10000&lt;/MScale&gt;&lt;XYTolerance&gt;0.001&lt;/XYTolerance&gt;&lt;ZTolerance&gt;0.001&lt;/ZTolerance&gt;&lt;MTolerance&gt;0.001&lt;/MTolerance&gt;&lt;HighPrecision&gt;true&lt;/HighPrecision&gt;&lt;WKID&gt;3157&lt;/WKID&gt;&lt;LatestWKID&gt;3157&lt;/LatestWKID&gt;&lt;/ProjectedCoordinateSystem&gt;</peXml>
</coordRef>
</DataProperties>
<SyncDate>20220126</SyncDate>
<SyncTime>12020300</SyncTime>
<ModDate>20220126</ModDate>
<ModTime>12021100</ModTime>
<scaleRange>
<minScale>150000000</minScale>
<maxScale>5000</maxScale>
</scaleRange>
<ArcGISProfile>ISO19139</ArcGISProfile>
</Esri>
<dataIdInfo>
<envirDesc Sync="TRUE">Microsoft Windows 7 Version 6.1 (Build 7601) Service Pack 1; Esri ArcGIS 10.6.1.9328</envirDesc>
<dataLang>
<languageCode Sync="TRUE" value="eng"/>
<countryCode Sync="TRUE" value="USA"/>
</dataLang>
<idCitation>
<resTitle Sync="FALSE">Orthophoto2001</resTitle>
<presForm>
<PresFormCd Sync="TRUE" value="011"/>
</presForm>
<citRespParty>
<rpOrgName>The Corporation of the District of Saanich, GIS Section</rpOrgName>
<role>
<RoleCd value="002"/>
</role>
<rpCntInfo>
<cntAddress addressType="both">
<delPoint>770 Vernon Ave</delPoint>
<city>Victoria</city>
<adminArea>British Columbia</adminArea>
<postCode>V8X 2W7</postCode>
<country>CA</country>
</cntAddress>
<cntPhone>
<voiceNum tddtty="">(250) 475-5575 ext</voiceNum>
<faxNum>(250) 475-5450</faxNum>
</cntPhone>
</rpCntInfo>
<displayName>The Corporation of the District of Saanich, GIS Section</displayName>
</citRespParty>
<date>
<createDate>2001-03-23T00:00:00</createDate>
</date>
</idCitation>
<spatRpType>
<SpatRepTypCd Sync="TRUE" value="002"/>
</spatRpType>
<dataExt>
<geoEle>
<GeoBndBox esriExtentType="search">
<exTypeCode Sync="TRUE">1</exTypeCode>
<westBL Sync="TRUE">-123.478444</westBL>
<eastBL Sync="TRUE">-123.249816</eastBL>
<northBL Sync="TRUE">48.563209</northBL>
<southBL Sync="TRUE">48.424402</southBL>
</GeoBndBox>
</geoEle>
</dataExt>
<idPurp>The 2001 orthophoto is used for detailed municipal mapping purposes such as land use planning, zoning enforcement, development and bylaw applications and for...</idPurp>
<idAbs>&lt;div style='text-align:Left;'&gt;&lt;div&gt;&lt;div&gt;&lt;p style='margin:0 0 11 0;'&gt;&lt;span&gt;The 2001 orthophoto is a digital aerial photograph in which displacements due to tilt and relief have been corrected to produce uniform scale and a true representation of the ground. The data capture was contracted out by the District of Saanich to Delta Aerial Surveys Ltd. (Richmond, BC, CAN) and was originally captured in Kodak 2445 colour film. The images were captured March 23 2001, post processed and loaded into a seamless mosaic and compressed using compression type LZ77. It is stored in coordinate system UTM Zone 10, NAD83 Datum.&lt;/span&gt;&lt;/p&gt;&lt;/div&gt;&lt;/div&gt;&lt;/div&gt;</idAbs>
<idCredit>The Corporation of the District of Saanich, GIS Section; Delta Aerial Surveys Ltd.</idCredit>
<searchKeys>
<keyword>British Columbia</keyword>
<keyword>orthophoto</keyword>
<keyword>imagery</keyword>
<keyword>image</keyword>
<keyword>Saanich</keyword>
<keyword>raster</keyword>
<keyword>North America</keyword>
<keyword>mosaic</keyword>
<keyword>The Capital Regional District</keyword>
<keyword>Victoria</keyword>
<keyword>photo</keyword>
<keyword>aerial photograph</keyword>
<keyword>Canada</keyword>
</searchKeys>
<resConst>
<Consts>
<useLimit>&lt;div style='text-align:Left;'&gt;&lt;div&gt;&lt;div&gt;&lt;p&gt;&lt;span&gt;Metadata Disclaimer: In consideration for the District of Saanich granting access to this geographic data, the user agrees to and accepts these Terms of Use. Access to this data is for information purposes and should not be considered authoritative for construction, geotechnical, engineering, navigational, legal or other site-specific uses. This data is not to be distributed in whole or in part in digital format. All data herein are provided without warranty of any kind. The user assumes the entire risk as to the quality and performance of the data. No guarantees of accuracy or precision are made and The District of Saanich does not accept liability for any damages or misrepresentation caused by inaccuracies in the data, nor is there responsibility assumed to maintain the data in any manner or form or for any period of time. In no event shall The District of Saanich be liable for direct, indirect, incidental, consequential, or special damages of any kind, including, but not limited to, loss of anticipated profits or benefits arising out of use of or reliance on the data. These Terms of Use are governed by the laws of British Columbia, Canada. If any part of these Terms of Use are found to be unenforceable, then that part will be severed so that the remainder of these Terms of Use can continue to be enforceable.&lt;/span&gt;&lt;/p&gt;&lt;/div&gt;&lt;/div&gt;&lt;/div&gt;</useLimit>
</Consts>
</resConst>
<themeKeys>
<keyword>orthophoto</keyword>
<keyword>imagery</keyword>
<keyword>image</keyword>
<keyword>raster</keyword>
<keyword>mosaic</keyword>
<keyword>photo</keyword>
<keyword>aerial photograph</keyword>
</themeKeys>
<placeKeys>
<keyword>British Columbia</keyword>
<keyword>Saanich</keyword>
<keyword>North America</keyword>
<keyword>The Capital Regional District</keyword>
<keyword>Victoria</keyword>
<keyword>Canada</keyword>
</placeKeys>
<dataChar>
<CharSetCd value="004"/>
</dataChar>
<idPoC>
<rpOrgName>The Corporation of the District of Saanich, GIS Section</rpOrgName>
<rpPosName>GIS Coordinator</rpPosName>
<role>
<RoleCd value="007"/>
</role>
<rpCntInfo>
<cntAddress addressType="both">
<delPoint>770 Vernon Ave</delPoint>
<city>Victoria</city>
<adminArea>British Columbia</adminArea>
<postCode>V8X 2W7</postCode>
<country>CA</country>
<eMailAdd>GIS@saanich.ca</eMailAdd>
</cntAddress>
<cntPhone>
<voiceNum tddtty="">(250) 475-5575 ext</voiceNum>
<faxNum>(250) 475-5450</faxNum>
</cntPhone>
</rpCntInfo>
<displayName>The Corporation of the District of Saanich, GIS Section</displayName>
<displayName>The Corporation of the District of Saanich, GIS Section</displayName>
<rpIndName>GIS</rpIndName>
</idPoC>
<resMaint>
<maintFreq>
<MaintFreqCd value="009"/>
</maintFreq>
<usrDefFreq>
<duration>Every 2 years</duration>
</usrDefFreq>
</resMaint>
<tpCat>
<TopicCatCd value="010"/>
</tpCat>
</dataIdInfo>
<mdLang>
<languageCode Sync="TRUE" value="eng"/>
<countryCode Sync="TRUE" value="USA"/>
</mdLang>
<distInfo>
<distFormat>
<formatName Sync="TRUE">SDE Raster Dataset</formatName>
</distFormat>
</distInfo>
<mdHrLv>
<ScopeCd Sync="TRUE" value="005"/>
</mdHrLv>
<mdHrLvName Sync="TRUE">dataset</mdHrLvName>
<refSysInfo>
<RefSystem dimension="">
<refSysID>
<identCode Sync="TRUE" code="3157"/>
<idCodeSpace Sync="TRUE">EPSG</idCodeSpace>
<idVersion Sync="TRUE">6.11(9.3.0.0)</idVersion>
</refSysID>
</RefSystem>
</refSysInfo>
<spdoinfo>
<rastinfo>
<rasttype Sync="TRUE">Pixel</rasttype>
<rowcount Sync="TRUE">61398</rowcount>
<colcount Sync="TRUE">67274</colcount>
<rastxsz Sync="TRUE">0.250000</rastxsz>
<rastysz Sync="TRUE">0.250000</rastysz>
<rastbpp Sync="TRUE">8</rastbpp>
<vrtcount Sync="TRUE">1</vrtcount>
<rastorig Sync="TRUE">Upper Left</rastorig>
<rastcmap Sync="TRUE">FALSE</rastcmap>
<rastcomp Sync="TRUE">LZ77</rastcomp>
<rastband Sync="TRUE">3</rastband>
<rastdtyp Sync="TRUE">pixel codes</rastdtyp>
<rastifor Sync="TRUE">SDR</rastifor>
<rastplyr Sync="TRUE">TRUE</rastplyr>
</rastinfo>
</spdoinfo>
<spref>
<horizsys>
<planar>
<planci>
<plance Sync="TRUE">row and column</plance>
<coordrep>
<absres Sync="TRUE">0.250000</absres>
<ordres Sync="TRUE">0.250000</ordres>
</coordrep>
</planci>
</planar>
</horizsys>
</spref>
<mdDateSt Sync="TRUE">20220126</mdDateSt>
<mdContact>
<rpOrgName>The Corporation of the District of Saanich, GIS Section</rpOrgName>
<rpPosName>Sr GIS Analyst</rpPosName>
<role>
<RoleCd value="007"/>
</role>
<rpCntInfo>
<cntAddress addressType="both">
<delPoint>770 Vernon Ave</delPoint>
<city>Victoria</city>
<adminArea>British Columbia</adminArea>
<postCode>V8X 2W7</postCode>
<country>CA</country>
</cntAddress>
<cntPhone>
<voiceNum tddtty="">(250) 475-5575 ext</voiceNum>
<faxNum>(250) 475-5450</faxNum>
</cntPhone>
</rpCntInfo>
</mdContact>
<mdChar>
<CharSetCd value="004"/>
</mdChar>
<dqInfo>
<dqScope>
<scpLvl>
<ScopeCd value="005"/>
</scpLvl>
</dqScope>
<report dimension="" type="DQCompOm">
<evalMethDesc>The orthophoto covers the entire District of Saanich, extending beyond the municipal boundary in some areas, with no gaps or omissions.</evalMethDesc>
</report>
<report dimension="" type="DQConcConsis">
<measDesc>The 2001 Orthophoto has a resolution of 25cm.</measDesc>
</report>
</dqInfo>
</metadata>
