<?xml version="1.0" encoding="UTF-8" standalone="no"?>
<metadata xml:lang="en">
<Esri>
<CreaDate>20210209</CreaDate>
<CreaTime>10501100</CreaTime>
<ArcGISFormat>1.0</ArcGISFormat>
<SyncOnce>FALSE</SyncOnce>
<DataProperties>
<itemProps>
<itemName Sync="TRUE">RASTEROWNER.HILLSHADE2018</itemName>
<nativeExtBox>
<westBL Sync="TRUE">455589.890000</westBL>
<eastBL Sync="TRUE">484634.890000</eastBL>
<southBL Sync="TRUE">5360785.130000</southBL>
<northBL Sync="TRUE">5394281.130000</northBL>
<exTypeCode Sync="TRUE">1</exTypeCode>
</nativeExtBox>
<itemLocation>
<linkage Sync="TRUE">Server=GIS-TST-ORA1; Service=sde:oracle$GIS-TST-ORA1/GISTST.WIN.SAANICH; User=rasterowner; Version=SDE.DEFAULT</linkage>
<protocol Sync="TRUE">ArcSDE Connection</protocol>
</itemLocation>
<imsContentType Sync="TRUE" export="False">002</imsContentType>
</itemProps>
<coordRef>
<type Sync="TRUE">Projected</type>
<geogcsn Sync="TRUE">GCS_North_American_1983_CSRS</geogcsn>
<csUnits Sync="TRUE">Linear Unit: Meter (1.000000)</csUnits>
<projcsn Sync="TRUE">NAD_1983_CSRS_UTM_Zone_10N</projcsn>
<peXml Sync="TRUE">&lt;ProjectedCoordinateSystem xsi:type='typens:ProjectedCoordinateSystem' xmlns:xsi='http://www.w3.org/2001/XMLSchema-instance' xmlns:xs='http://www.w3.org/2001/XMLSchema' xmlns:typens='http://www.esri.com/schemas/ArcGIS/10.6'&gt;&lt;WKT&gt;PROJCS[&amp;quot;NAD_1983_CSRS_UTM_Zone_10N&amp;quot;,GEOGCS[&amp;quot;GCS_North_American_1983_CSRS&amp;quot;,DATUM[&amp;quot;D_North_American_1983_CSRS&amp;quot;,SPHEROID[&amp;quot;GRS_1980&amp;quot;,6378137.0,298.257222101]],PRIMEM[&amp;quot;Greenwich&amp;quot;,0.0],UNIT[&amp;quot;Degree&amp;quot;,0.0174532925199433]],PROJECTION[&amp;quot;Transverse_Mercator&amp;quot;],PARAMETER[&amp;quot;False_Easting&amp;quot;,500000.0],PARAMETER[&amp;quot;False_Northing&amp;quot;,0.0],PARAMETER[&amp;quot;Central_Meridian&amp;quot;,-123.0],PARAMETER[&amp;quot;Scale_Factor&amp;quot;,0.9996],PARAMETER[&amp;quot;Latitude_Of_Origin&amp;quot;,0.0],UNIT[&amp;quot;Meter&amp;quot;,1.0],AUTHORITY[&amp;quot;EPSG&amp;quot;,3157]]&lt;/WKT&gt;&lt;XOrigin&gt;-5120900&lt;/XOrigin&gt;&lt;YOrigin&gt;-9998100&lt;/YOrigin&gt;&lt;XYScale&gt;450445547.3910538&lt;/XYScale&gt;&lt;ZOrigin&gt;-100000&lt;/ZOrigin&gt;&lt;ZScale&gt;10000&lt;/ZScale&gt;&lt;MOrigin&gt;-100000&lt;/MOrigin&gt;&lt;MScale&gt;10000&lt;/MScale&gt;&lt;XYTolerance&gt;0.001&lt;/XYTolerance&gt;&lt;ZTolerance&gt;0.00020000000000000001&lt;/ZTolerance&gt;&lt;MTolerance&gt;0.00020000000000000001&lt;/MTolerance&gt;&lt;HighPrecision&gt;true&lt;/HighPrecision&gt;&lt;WKID&gt;3157&lt;/WKID&gt;&lt;LatestWKID&gt;3157&lt;/LatestWKID&gt;&lt;/ProjectedCoordinateSystem&gt;</peXml>
</coordRef>
<lineage>
<Process Date="20210209" Name="" Time="105023" ToolSource="c:\program files\arcgis\pro\Resources\ArcToolbox\toolboxes\Data Management Tools.tbx\Rename" export="">Rename "E:\LiDAR\2018 LIDAR GeoBC\2018_Lidar\Cleaned_2018_Lidar.gdb\Multi_Hill" "E:\LiDAR\2018 LIDAR GeoBC\2018_Lidar\Cleaned_2018_Lidar.gdb\DEM_HILL" RasterDataset</Process>
<Process Date="20210409" Name="" Time="085149" ToolSource="c:\program files (x86)\arcgis\desktop10.6\ArcToolbox\Toolboxes\Data Management Tools.tbx\CopyRaster" export="">CopyRaster "E:\LiDAR\2018 LIDAR GeoBC\2018_Lidar\Cleaned_2018_Lidar.gdb\HILLSHADE2018" "Database Connections\RASTER GIS-TST-ORA1.sde\RASTEROWNER.HILLSHADE2018" # # 255 NONE NONE # NONE NONE "Esri Grid" NONE</Process>
<Process Date="20230811" Time="135044" ToolSource="c:\program files\arcgis\pro\Resources\ArcToolbox\Toolboxes\Data Management Tools.tbx\CopyMultiple">CopyMultiple "'C:\Users\parfettn\AppData\Roaming\Esri\ArcGISPro\Favorites\rasterowner gis-tst-ora1.sde\RASTEROWNER.HILLSHADE2018' RasterDataset" "C:\Users\parfettn\AppData\Roaming\Esri\ArcGISPro\Favorites\rasterowner gis-tst-ora2.sde" HILLSHADE2018 "RASTEROWNER.HILLSHADE2018 RasterDataset RASTEROWNER.HILLSHADE2018 #"</Process>
<Process Date="20230817" Time="110009" ToolSource="c:\program files\arcgis\pro\Resources\ArcToolbox\Toolboxes\Data Management Tools.tbx\CopyMultiple">CopyMultiple "'C:\Users\parfettn\AppData\Roaming\Esri\ArcGISPro\Favorites\rasterowner gis-tst-ora2.sde\RASTEROWNER.HILLSHADE2018' RasterDataset" "C:\Users\parfettn\AppData\Roaming\Esri\ArcGISPro\Favorites\rasterowner gis-prd-ora2.sde" HILLSHADE2018 "RASTEROWNER.HILLSHADE2018 RasterDataset RASTEROWNER.HILLSHADE2018 #"</Process>
</lineage>
</DataProperties>
<SyncDate>20210916</SyncDate>
<SyncTime>11460800</SyncTime>
<ModDate>20210916</ModDate>
<ModTime>11460800</ModTime>
<scaleRange>
<minScale>150000000</minScale>
<maxScale>5000</maxScale>
</scaleRange>
<ArcGISProfile>ISO19139</ArcGISProfile>
</Esri>
<mdLang>
<languageCode value="eng"/>
<countryCode Sync="TRUE" value="USA"/>
</mdLang>
<mdChar>
<CharSetCd value="004"/>
</mdChar>
<mdHrLv>
<ScopeCd value="005"/>
</mdHrLv>
<mdContact>
<rpOrgName>The Corporation of the District of Saanich, GIS Section</rpOrgName>
<rpCntInfo>
<cntPhone>
<voiceNum tddtty="">(250) 475-1775 ext</voiceNum>
</cntPhone>
<cntAddress addressType="both">
<delPoint>770 Vernon Ave</delPoint>
<city>Victoria</city>
<adminArea>British Columbia</adminArea>
<postCode>V8X 2W7</postCode>
<country>CA</country>
<country>CA</country>
</cntAddress>
</rpCntInfo>
<role>
<RoleCd value="007"/>
</role>
<rpIndName>Bryn Williams</rpIndName>
<rpPosName>Sr GIS Analyst</rpPosName>
</mdContact>
<mdStanName>ArcGIS Metadata</mdStanName>
<mdStanVer>1.0</mdStanVer>
<dataIdInfo>
<idCitation>
<citRespParty>
<rpOrgName>The Corporation of the District of Saanich, GIS Section</rpOrgName>
<role>
<RoleCd value="006"/>
</role>
</citRespParty>
<resTitle Sync="FALSE">Hillshade2018</resTitle>
<presForm>
<PresFormCd Sync="TRUE" value="011"/>
</presForm>
<date>
<createDate>2018-10-14T00:00:00</createDate>
<pubDate>2021-09-16T00:00:00</pubDate>
</date>
</idCitation>
<idPoC>
<rpIndName>GIS</rpIndName>
<rpOrgName>The Corporation of the District of Saanich</rpOrgName>
<rpPosName>GIS Coordinator</rpPosName>
<rpCntInfo>
<cntPhone>
<voiceNum tddtty="">(250)475-1775</voiceNum>
</cntPhone>
<cntAddress addressType="both">
<delPoint>770 Vernon Ave</delPoint>
<city>Victoria</city>
<adminArea>British Columbia</adminArea>
<postCode>V8X 2W7</postCode>
<country>CA</country>
<country>CA</country>
<eMailAdd>GIS@saanich.ca</eMailAdd>
</cntAddress>
</rpCntInfo>
<role>
<RoleCd value="007"/>
</role>
</idPoC>
<placeKeys>
<keyword>British Columbia</keyword>
<keyword>Victoria</keyword>
<keyword>Canada</keyword>
<keyword>The Capital Regional District</keyword>
<keyword>Saanich</keyword>
<keyword>North America</keyword>
</placeKeys>
<searchKeys>
<keyword>saanich</keyword>
<keyword>hillshade</keyword>
</searchKeys>
<resConst>
<Consts>
<useLimit/>
</Consts>
</resConst>
<dataLang>
<languageCode value="eng"/>
<countryCode Sync="TRUE" value="USA"/>
</dataLang>
<envirDesc Sync="TRUE">Microsoft Windows 7 Version 6.1 (Build 7601) Service Pack 1; Esri ArcGIS 10.6.1.9328</envirDesc>
<spatRpType>
<SpatRepTypCd Sync="TRUE" value="002"/>
</spatRpType>
<dataExt>
<geoEle>
<GeoBndBox esriExtentType="search">
<exTypeCode Sync="TRUE">1</exTypeCode>
<westBL Sync="TRUE">-123.603557</westBL>
<eastBL Sync="TRUE">-123.207589</eastBL>
<northBL Sync="TRUE">48.701377</northBL>
<southBL Sync="TRUE">48.398661</southBL>
</GeoBndBox>
</geoEle>
</dataExt>
<idPurp>Saanich Hillshade</idPurp>
<idCredit>GeoBC, District of Saanich</idCredit>
<idAbs>Saanich hillshade rendering from 2018 LiDAR source</idAbs>
<themeKeys>
<keyword>Grayscale, 3D Representation, Surface</keyword>
</themeKeys>
<dataChar>
<CharSetCd value="004"/>
</dataChar>
<tpCat>
<TopicCatCd value="010"/>
</tpCat>
</dataIdInfo>
<distInfo>
<distFormat>
<formatName Sync="FALSE">Future (Open Data)</formatName>
<formatVer>Future (Open Data)</formatVer>
<formatAmdNum>Future (Open Data)</formatAmdNum>
<formatSpec>Future (Open Data)</formatSpec>
<fileDecmTech>Future (Open Data)</fileDecmTech>
<formatInfo>Future (Open Data)</formatInfo>
</distFormat>
</distInfo>
<mdHrLvName Sync="TRUE">dataset</mdHrLvName>
<refSysInfo>
<RefSystem dimension="">
<refSysID>
<identCode Sync="TRUE" code="3157"/>
<idCodeSpace Sync="TRUE">EPSG</idCodeSpace>
<idVersion Sync="TRUE">6.11(9.3.0.0)</idVersion>
</refSysID>
</RefSystem>
</refSysInfo>
<spdoinfo>
<rastinfo>
<rasttype Sync="TRUE">Pixel</rasttype>
<rowcount Sync="TRUE">33496</rowcount>
<colcount Sync="TRUE">29045</colcount>
<rastxsz Sync="TRUE">1.000000</rastxsz>
<rastysz Sync="TRUE">1.000000</rastysz>
<rastbpp Sync="TRUE">8</rastbpp>
<vrtcount Sync="TRUE">1</vrtcount>
<rastorig Sync="TRUE">Upper Left</rastorig>
<rastcmap Sync="TRUE">FALSE</rastcmap>
<rastcomp Sync="TRUE">LZ77</rastcomp>
<rastband Sync="TRUE">1</rastband>
<rastdtyp Sync="TRUE">pixel codes</rastdtyp>
<rastifor Sync="TRUE">SDR</rastifor>
<rastplyr Sync="TRUE">TRUE</rastplyr>
</rastinfo>
</spdoinfo>
<spref>
<horizsys>
<planar>
<planci>
<plance Sync="TRUE">row and column</plance>
<coordrep>
<absres Sync="TRUE">1.000000</absres>
<ordres Sync="TRUE">1.000000</ordres>
</coordrep>
</planci>
</planar>
</horizsys>
</spref>
<mdDateSt Sync="TRUE">20210916</mdDateSt>
<mdMaint>
<maintFreq>
<MaintFreqCd value="009"/>
</maintFreq>
</mdMaint>
<dqInfo>
<dqScope>
<scpLvl>
<ScopeCd value="005"/>
</scpLvl>
</dqScope>
<dataLineage>
<prcStep>
<stepDesc>Point clouds of Lidar Data were processed to create 1m x 1m cell raster products.</stepDesc>
<stepDateTm>2021-01-01T00:00:00</stepDateTm>
</prcStep>
</dataLineage>
</dqInfo>
<eainfo>
<detailed>
<enttyp>
<enttypl>Raster</enttypl>
<enttypd>Raster</enttypd>
<enttypds>District of Saanich</enttypds>
</enttyp>
</detailed>
</eainfo>
</metadata>
